<VRTDataset rasterXSize="15478" rasterYSize="11768">
  <SRS dataAxisToSRSAxisMapping="1,2">PROJCS["WGS 84 / Pseudo-Mercator",GEOGCS["WGS 84",DATUM["WGS_1984",SPHEROID["WGS 84",6378137,298.257223563,AUTHORITY["EPSG","7030"]],AUTHORITY["EPSG","6326"]],PRIMEM["Greenwich",0,AUTHORITY["EPSG","8901"]],UNIT["degree",0.0174532925199433,AUTHORITY["EPSG","9122"]],AUTHORITY["EPSG","4326"]],PROJECTION["Mercator_1SP"],PARAMETER["central_meridian",0],PARAMETER["scale_factor",1],PARAMETER["false_easting",0],PARAMETER["false_northing",0],UNIT["metre",1,AUTHORITY["EPSG","9001"]],AXIS["Easting",EAST],AXIS["Northing",NORTH],EXTENSION["PROJ4","+proj=merc +a=6378137 +b=6378137 +lat_ts=0 +lon_0=0 +x_0=0 +y_0=0 +k=1 +units=m +nadgrids=@null +wktext +no_defs"],AUTHORITY["EPSG","3857"]]</SRS>
  <GeoTransform> -1.4136975763968330e+07,  1.1538960467154523e+02,  0.0000000000000000e+00,  6.3855241034437334e+06,  0.0000000000000000e+00, -1.1538960467154523e+02</GeoTransform>
  <Metadata>
    <MDI key="AREA_OR_POINT">Area</MDI>
  </Metadata>
  <Metadata domain="IMAGE_STRUCTURE">
    <MDI key="COMPRESSION">LZW</MDI>
    <MDI key="INTERLEAVE">BAND</MDI>
  </Metadata>
  <VRTRasterBand dataType="Byte" band="1" blockYSize="1">
    <ColorInterp>Red</ColorInterp>
    <ComplexSource>
      <SourceFilename relativeToVRT="1">3lXUn.tif</SourceFilename>
      <SourceBand>1</SourceBand>
      <SourceProperties RasterXSize="15478" RasterYSize="11768" DataType="Byte" BlockXSize="15478" BlockYSize="1" />
      <SrcRect xOff="0" yOff="0" xSize="15478" ySize="11768" />
      <DstRect xOff="0" yOff="0" xSize="15478" ySize="11768" />
      <NODATA>255</NODATA>
      <ColorTableComponent>1</ColorTableComponent>
    </ComplexSource>
  </VRTRasterBand>
  <VRTRasterBand dataType="Byte" band="2" blockYSize="1">
    <ColorInterp>Green</ColorInterp>
    <ComplexSource>
      <SourceFilename relativeToVRT="1">3lXUn.tif</SourceFilename>
      <SourceBand>1</SourceBand>
      <SourceProperties RasterXSize="15478" RasterYSize="11768" DataType="Byte" BlockXSize="15478" BlockYSize="1" />
      <SrcRect xOff="0" yOff="0" xSize="15478" ySize="11768" />
      <DstRect xOff="0" yOff="0" xSize="15478" ySize="11768" />
      <NODATA>255</NODATA>
      <ColorTableComponent>2</ColorTableComponent>
    </ComplexSource>
  </VRTRasterBand>
  <VRTRasterBand dataType="Byte" band="3" blockYSize="1">
    <ColorInterp>Blue</ColorInterp>
    <ComplexSource>
      <SourceFilename relativeToVRT="1">3lXUn.tif</SourceFilename>
      <SourceBand>1</SourceBand>
      <SourceProperties RasterXSize="15478" RasterYSize="11768" DataType="Byte" BlockXSize="15478" BlockYSize="1" />
      <SrcRect xOff="0" yOff="0" xSize="15478" ySize="11768" />
      <DstRect xOff="0" yOff="0" xSize="15478" ySize="11768" />
      <NODATA>255</NODATA>
      <ColorTableComponent>3</ColorTableComponent>
    </ComplexSource>
  </VRTRasterBand>
  <VRTRasterBand dataType="Byte" band="4" blockYSize="1">
    <ColorInterp>Alpha</ColorInterp>
    <ComplexSource>
      <SourceFilename relativeToVRT="1">3lXUn.tif</SourceFilename>
      <SourceBand>1</SourceBand>
      <SourceProperties RasterXSize="15478" RasterYSize="11768" DataType="Byte" BlockXSize="15478" BlockYSize="1" />
      <SrcRect xOff="0" yOff="0" xSize="15478" ySize="11768" />
      <DstRect xOff="0" yOff="0" xSize="15478" ySize="11768" />
      <NODATA>255</NODATA>
      <ColorTableComponent>4</ColorTableComponent>
    </ComplexSource>
  </VRTRasterBand>
</VRTDataset>
