<VRTDataset rasterXSize="14220" rasterYSize="13260">
  <SRS dataAxisToSRSAxisMapping="2,1">GEOGCS["WGS 84",DATUM["WGS_1984",SPHEROID["WGS 84",6378137,298.257223563,AUTHORITY["EPSG","7030"]],AUTHORITY["EPSG","6326"]],PRIMEM["Greenwich",0,AUTHORITY["EPSG","8901"]],UNIT["degree",0.0174532925199433,AUTHORITY["EPSG","9122"]],AXIS["Latitude",NORTH],AXIS["Longitude",EAST],AUTHORITY["EPSG","4326"]]</SRS>
  <GeoTransform> -1.2699461400000000e+02,  1.1282436708860753e-03,  0.0000000000000000e+00,  4.9647922999999999e+01,  0.0000000000000000e+00, -6.4435188536953239e-04</GeoTransform>
  <VRTRasterBand dataType="Byte" band="1" blockYSize="1">
    <Metadata>
      <MDI key="GIF_BACKGROUND">27</MDI>
    </Metadata>
    <NoDataValue>255</NoDataValue>
    <ColorInterp>Palette</ColorInterp>
    <ColorTable>
      <Entry c1="0" c2="0" c3="0" c4="255" />
      <Entry c1="0" c2="101" c3="8" c4="255" />
      <Entry c1="107" c2="109" c3="66" c4="255" />
      <Entry c1="189" c2="0" c3="0" c4="255" />
      <Entry c1="222" c2="8" c3="41" c4="255" />
      <Entry c1="231" c2="77" c3="0" c4="255" />
      <Entry c1="231" c2="69" c3="66" c4="255" />
      <Entry c1="0" c2="174" c3="57" c4="255" />
      <Entry c1="0" c2="203" c3="115" c4="255" />
      <Entry c1="255" c2="158" c3="0" c4="255" />
      <Entry c1="255" c2="215" c3="24" c4="255" />
      <Entry c1="255" c2="255" c3="0" c4="255" />
      <Entry c1="255" c2="138" c3="123" c4="255" />
      <Entry c1="33" c2="117" c3="214" c4="255" />
      <Entry c1="0" c2="190" c3="148" c4="255" />
      <Entry c1="57" c2="154" c3="231" c4="255" />
      <Entry c1="123" c2="174" c3="239" c4="255" />
      <Entry c1="140" c2="174" c3="156" c4="255" />
      <Entry c1="255" c2="255" c3="140" c4="255" />
      <Entry c1="165" c2="203" c3="255" c4="255" />
      <Entry c1="255" c2="203" c3="198" c4="255" />
      <Entry c1="239" c2="219" c3="206" c4="255" />
      <Entry c1="255" c2="219" c3="222" c4="255" />
      <Entry c1="222" c2="227" c3="255" c4="255" />
      <Entry c1="231" c2="231" c3="231" c4="255" />
      <Entry c1="255" c2="235" c3="239" c4="255" />
      <Entry c1="247" c2="243" c3="247" c4="255" />
      <Entry c1="255" c2="255" c3="255" c4="255" />
      <Entry c1="0" c2="0" c3="0" c4="255" />
      <Entry c1="0" c2="0" c3="0" c4="255" />
      <Entry c1="0" c2="0" c3="0" c4="255" />
      <Entry c1="0" c2="0" c3="0" c4="255" />
    </ColorTable>
    <SimpleSource>
      <SourceFilename relativeToVRT="1">bigwind.19.gif</SourceFilename>
      <SourceBand>1</SourceBand>
      <SourceProperties RasterXSize="14220" RasterYSize="13260" DataType="Byte" BlockXSize="14220" BlockYSize="1" />
      <SrcRect xOff="0" yOff="0" xSize="14220" ySize="13260" />
      <DstRect xOff="0" yOff="0" xSize="14220" ySize="13260" />
    </SimpleSource>
  </VRTRasterBand>
</VRTDataset>
